BEGIN:VCALENDAR
VERSION:2.0
PRODID:-//Cercle Jean Zay - ECPv6.15.15//NONSGML v1.0//EN
CALSCALE:GREGORIAN
METHOD:PUBLISH
X-ORIGINAL-URL:https://cerclejeanzayorleans.org
X-WR-CALDESC:Évènements pour Cercle Jean Zay
REFRESH-INTERVAL;VALUE=DURATION:PT1H
X-Robots-Tag:noindex
X-PUBLISHED-TTL:PT1H
BEGIN:VTIMEZONE
TZID:Europe/Paris
BEGIN:DAYLIGHT
TZOFFSETFROM:+0100
TZOFFSETTO:+0200
TZNAME:CEST
DTSTART:20150329T010000
END:DAYLIGHT
BEGIN:STANDARD
TZOFFSETFROM:+0200
TZOFFSETTO:+0100
TZNAME:CET
DTSTART:20151025T010000
END:STANDARD
BEGIN:DAYLIGHT
TZOFFSETFROM:+0100
TZOFFSETTO:+0200
TZNAME:CEST
DTSTART:20160327T010000
END:DAYLIGHT
BEGIN:STANDARD
TZOFFSETFROM:+0200
TZOFFSETTO:+0100
TZNAME:CET
DTSTART:20161030T010000
END:STANDARD
BEGIN:DAYLIGHT
TZOFFSETFROM:+0100
TZOFFSETTO:+0200
TZNAME:CEST
DTSTART:20170326T010000
END:DAYLIGHT
BEGIN:STANDARD
TZOFFSETFROM:+0200
TZOFFSETTO:+0100
TZNAME:CET
DTSTART:20171029T010000
END:STANDARD
BEGIN:DAYLIGHT
TZOFFSETFROM:+0100
TZOFFSETTO:+0200
TZNAME:CEST
DTSTART:20180325T010000
END:DAYLIGHT
BEGIN:STANDARD
TZOFFSETFROM:+0200
TZOFFSETTO:+0100
TZNAME:CET
DTSTART:20181028T010000
END:STANDARD
END:VTIMEZONE
BEGIN:VTIMEZONE
TZID:Europe/Paris
BEGIN:DAYLIGHT
TZOFFSETFROM:+0100
TZOFFSETTO:+0200
TZNAME:CEST
DTSTART:20140330T010000
END:DAYLIGHT
BEGIN:STANDARD
TZOFFSETFROM:+0200
TZOFFSETTO:+0100
TZNAME:CET
DTSTART:20141026T010000
END:STANDARD
BEGIN:DAYLIGHT
TZOFFSETFROM:+0100
TZOFFSETTO:+0200
TZNAME:CEST
DTSTART:20150329T010000
END:DAYLIGHT
BEGIN:STANDARD
TZOFFSETFROM:+0200
TZOFFSETTO:+0100
TZNAME:CET
DTSTART:20151025T010000
END:STANDARD
BEGIN:DAYLIGHT
TZOFFSETFROM:+0100
TZOFFSETTO:+0200
TZNAME:CEST
DTSTART:20160327T010000
END:DAYLIGHT
BEGIN:STANDARD
TZOFFSETFROM:+0200
TZOFFSETTO:+0100
TZNAME:CET
DTSTART:20161030T010000
END:STANDARD
END:VTIMEZONE
BEGIN:VEVENT
DTSTART;TZID=Europe/Paris:20171007T210000
DTEND;TZID=Europe/Paris:20171007T210000
DTSTAMP:20260420T104309
CREATED:20171004T183018Z
LAST-MODIFIED:20171004T183420Z
UID:1572-1507410000-1507410000@cerclejeanzayorleans.org
SUMMARY:Un film de Cannes 39 aux Rendez-vous de l'Histoire de Blois
DESCRIPTION:Cette projection constitue une première manifestation\, en attendant le colloque de novembre\, du projet Jean Zay Cannes 39 . Antoine de Baecque\, Hélène Mouchard Zay et Olivier Loubes présenteront ensemble et le projet et le film… \nAttention la date initiale était le vendredi et elle a été changée au samedi soir ! \n170921_homme-niger-v3\n 
URL:https://cerclejeanzayorleans.org/event/un-film-de-cannes-39-aux-rendez-vous-de-lhistoire-de-blois/
CATEGORIES:Projection film
END:VEVENT
BEGIN:VEVENT
DTSTART;TZID=Europe/Paris:20170509T200000
DTEND;TZID=Europe/Paris:20170509T213000
DTSTAMP:20260420T104309
CREATED:20170428T073333Z
LAST-MODIFIED:20170502T150651Z
UID:1413-1494360000-1494365400@cerclejeanzayorleans.org
SUMMARY:Ingré : film documentaire : "Le piège du Massilia"
DESCRIPTION:  \n \nSoirée « écran d’idées » sur le thème « Jean Zay résistant » \nMardi 9 mai à 20h \nsalle Brice Fouquet de l’Espace Culturel Lionel Boutrouche \nProjection du film documentaire « Le piège de Massilia » de Virginie Linhart et échanges avec Gérard Boulanger\, avocat\, auteur de « L’Affaire Jean Zay » \nen présence de Catherine Martin Zay et Hélène Mouchard-Zay\, ainsi que Pierre-Louis Emery\, Président du Cercle Jean Zay d’Orléans.
URL:https://cerclejeanzayorleans.org/event/film-documentaire-le-piege-du-massilia/
LOCATION:Espace Culturel Lionel Boutrouche\, 33 Route d'Orléans\, Ingré\, 45140
CATEGORIES:Projection film
END:VEVENT
BEGIN:VEVENT
DTSTART;TZID=Europe/Paris:20161202T180000
DTEND;TZID=Europe/Paris:20161202T220000
DTSTAMP:20260420T104309
CREATED:20161125T165831Z
LAST-MODIFIED:20161125T165831Z
UID:1262-1480701600-1480716000@cerclejeanzayorleans.org
SUMMARY:Lancement du Festival de Cannes 1939 !
DESCRIPTION:Projection (à 18h30) de deux films emblématiques du Front populaire :\nLa vie est à nous et Grèves d’occupations\nprécédée d’une présentation du Comité Jean Zay Cannes 39 (présidé par Antoine de Baecque).\nAprès la projection\, la discussion\, à laquelle participeront également Laurent Véray et Olivier Loubes\,  portera et sur les deux films de 36… et sur les projets du Comité pour 2017\, 2018 et 2019 !
URL:https://cerclejeanzayorleans.org/event/lancement-du-festival-de-cannes-1939/
LOCATION:Cinéma Les Carmes\, 7 rue des Carmes\, Orléans\, 45000
CATEGORIES:Projection film,Rencontre
END:VEVENT
BEGIN:VEVENT
DTSTART;VALUE=DATE:20161107
DTEND;VALUE=DATE:20161121
DTSTAMP:20260420T104309
CREATED:20161024T140045Z
LAST-MODIFIED:20161024T143729Z
UID:1133-1478476800-1479686399@cerclejeanzayorleans.org
SUMMARY:Exposition - conférence - film - théâtre à Chécy (45)
DESCRIPTION:Exposition Jean Zay 1904-1944 du 7 au 20 novembre\, hall Claudel\, accès libre. \nConférence Jean Zay le républicain : mardi 15 novembre à 20h30\, salle Monet\, entrée gratuite. \nFilm Festins imaginaires\, un documentaire d’Anne Georget : mercredi 16 novembre à 20h30\, salle Molière\, tarif 3 euros. \nThéâtre L’amour en résistance par la compagnie la Petite Elfe : vendredi 18 novembre à 20h30\, salle Molière\, tarif plein 15 €\, tarif réduit 12 €.
URL:https://cerclejeanzayorleans.org/event/exposition-jean-zay-1904-1944/
LOCATION:Espace George Sand\, Chécy
CATEGORIES:Conférence,Exposition,Projection film,Théâtre
END:VEVENT
BEGIN:VEVENT
DTSTART;TZID=Europe/Paris:20160920T143000
DTEND;TZID=Europe/Paris:20160920T163000
DTSTAMP:20260420T104309
CREATED:20160720T113520Z
LAST-MODIFIED:20160720T113520Z
UID:1098-1474381800-1474389000@cerclejeanzayorleans.org
SUMMARY:Prochaine projection de Jean Zay\, Ministre du cinéma
DESCRIPTION:Jean Zay\, Ministre du cinéma\n\nCiné Histoire fera sa rentrée le 20 septembre 2016 à 14h30 à l’Auditorium de l’Hôtel de Ville de Paris avec la projection du film Jean Zay\, ministre du cinéma\, de Francis Gendron et Alain Tyr\, en collaboration avec Alain Braun. \nNous avons choisi ce film (non distribué en salle) car Jean Zay a eu une influence déterminante sur l’histoire du cinéma.  On lui doit notamment un projet de loi de réorganisation de la profession marquée par de nombreuses faillites dans le milieu des années 30. Jean Zay voulait aussi donner un rôle pédagogique au cinéma. Il est à l’origine de la création du festival international de Cannes\, prévu en septembre 1939\, mais qui ne pourra voir le jour qu’en 1946 !\nMétro : lignes 1 et 11\, station « Hôtel de Ville » \nBus : n° 58\, 69\, 70\, 72\, 74 \nRER A\, B\, C\, D\, station « Chatelet-Les-Halles » \n\nRéservation indispensable : \n\npar courriel : nicoledorra@gmail.com\npar voie postale : Association Ciné Histoire\, 8 rue Dupleix\, 75015 Paris\n\nPrévoir pièces d’identité.
URL:https://cerclejeanzayorleans.org/event/prochaine-projection-de-jean-zay-ministre-du-cinema/
LOCATION:Auditorium de l’Hôtel de Ville\, 5 rue Lobau\, Paris\, 75004\, France
CATEGORIES:Projection film,Rencontre
END:VEVENT
BEGIN:VEVENT
DTSTART;VALUE=DATE:20160916
DTEND;VALUE=DATE:20160926
DTSTAMP:20260420T104309
CREATED:20160731T134257Z
LAST-MODIFIED:20160731T134257Z
UID:1113-1473984000-1474847999@cerclejeanzayorleans.org
SUMMARY:Cannes 1939 par Ciné-Croisette en septembre 2016
DESCRIPTION:Cannes 1939 : le festival qui n’a pas eu lieu \nDu vendredi 16 au dimanche 25 septembre 2016\, l’association Ciné-Croisette de Cannes rend hommage à Jean Zay et au festival international du film prévu en 1939. \nPour lire le programme\, cliquer ICI
URL:https://cerclejeanzayorleans.org/event/cannes-1939-par-cine-croisette-en-septembre-2016/
LOCATION:Cinéma Arcades\, 77 Rue Félix Faure\, Cannes\, 06400
CATEGORIES:Projection film
ORGANIZER;CN="Cin%C3%A9-Croisette":MAILTO:cinecroisette@gmail.com
END:VEVENT
BEGIN:VEVENT
DTSTART;TZID=Europe/Paris:20160622T183000
DTEND;TZID=Europe/Paris:20160622T203000
DTSTAMP:20260420T104309
CREATED:20160613T182637Z
LAST-MODIFIED:20160613T182842Z
UID:1017-1466620200-1466627400@cerclejeanzayorleans.org
SUMMARY:Film et conférence à La Roche-sur-Yon
DESCRIPTION:  \nAFFICHE-Conf-J.ZAY_ \n 
URL:https://cerclejeanzayorleans.org/event/film-et-conference-a-la-roche-sur-yon/
LOCATION:Médiathèque Benjamin-Rabier\, Esplanade Jeannie-Mazurelle\, La Roche-sur-Yon\, 85000
CATEGORIES:Conférence,Projection film,Rencontre
END:VEVENT
BEGIN:VEVENT
DTSTART;TZID=Europe/Paris:20160402T110000
DTEND;TZID=Europe/Paris:20160402T200000
DTSTAMP:20260420T104309
CREATED:20160326T153634Z
LAST-MODIFIED:20160326T153939Z
UID:886-1459594800-1459627200@cerclejeanzayorleans.org
SUMMARY:Exposition\, film\, théâtre\, table ronde
DESCRIPTION:Jean Zay \nun homme\, une oeuvre… toujours d’actualités \nune journée organisée par citudi (Citoyens unis dans l’adversité) \nà partir de 11h : \nEXPOSITION conçue par le Cercle Jean Zay \nFILM sur la vie de Jean Zay\, réalisé par Pierre Bouchenot\, journaliste à France 3 Orléans \nDe 16h à 18h : \nTHÉÂTRE avec Jean-Pierre Thiercelin\, auteur et comédien \nTABLE RONDE avec Catherine Martin Zay\, Pierre-Louis Emery historien et président du Cercle Jean Zay\, François Marlin\, historien et auteur du livre Jean Zay\, un républicain et Jean-Pierre Thiercelin. \nRAP avec le groupe Systemic Music \nPot de l’amitié
URL:https://cerclejeanzayorleans.org/event/exposition-film-theatre-table-ronde/
LOCATION:Espace Florian\, 11 Avenue Albert Viger \, Châteauneuf-sur-Loire\, 45110 
CATEGORIES:Conférence,Exposition,Projection film
ORGANIZER;CN="Citoyens unis dans la diversit%C3%A9 (CITUDI)":MAILTO:citudi@orange.fr
END:VEVENT
BEGIN:VEVENT
DTSTART;TZID=Europe/Paris:20150619T200000
DTEND;TZID=Europe/Paris:20150619T213000
DTSTAMP:20260420T104309
CREATED:20150616T175936Z
LAST-MODIFIED:20150622T053317Z
UID:549-1434744000-1434749400@cerclejeanzayorleans.org
SUMMARY:Projection film "L'école est à nous ! ..."
DESCRIPTION:Projection du film : « L’école est à nous ! Ou comment Jean Zay révolutionna l’Education nationale » réalisé par Stéphane Benhamou suivie d’un débat avec le réalisateur\, l’historien François Marlin\, Catherine Martin-Zay et Hélène Mouchard-Zay\, filles de Jean Zay. \nEntrée libre sur inscription à rguerin@ville-orleans.fr dans la limite des places disponibles.
URL:https://cerclejeanzayorleans.org/event/projection-film-lecole-est-a-nous/
LOCATION:Auditorium Canopé (ancien CRDP)\, 55 rue Notre-Dame de Recouvrance\, Orléans 
CATEGORIES:Projection film
END:VEVENT
END:VCALENDAR